BEGIN:VCALENDAR
VERSION:2.0
PRODID:-//ChamberMaster//Event Calendar 2.0//EN
METHOD:PUBLISH
X-PUBLISHED-TTL:P3D
REFRESH-INTERVAL:P3D
CALSCALE:GREGORIAN
BEGIN:VEVENT
DTSTART:20260509T160000Z
DTEND:20260509T210000Z
X-MICROSOFT-CDO-ALLDAYEVENT:FALSE
SUMMARY:The Jyan Waespe Memorial Car & Bike Show
DESCRIPTION:The Jyan Waespe Memorial Car Show is more than just a car event\; it's a chance to give back to the community in memory of Jyan. All proceeds from the event will go directly toward funding scholarships for young adults pursuing ASE. \n\nBy attending\, entering your car\, or enjoying the food and activities\, you're contributing to a cause that will have a lasting impact. Jyan was passionate about cars\, community and friends\, and this event continues his legacy by supporting the next generation in pursuing their education and dreams.\n \n\n\n	\n	Car Show & Award: Enjoy a spectacular display of cars\, highlighted by one Jyan's Pick Award\, personally selected by our judges. Whether you're a car enthusiast or just here to admire\, there's something for everyone.\n	\n	\n	Car Club Booths: Connect with local car clubs at their booths\, where you can learn more about their vehicles\, memberships\, and community involvement.\n	\n	\n	Sponsor Booths: Learn more and interact with our sponsors that helped make this event possible.\n	\n	\n	Food Trucks: Grab a bite from our lineup of food trucks offering a variety of delicious options.
X-ALT-DESC;FMTTYPE=text/html:<p><span style="font-size:12px"><span style="font-family:arial\,helvetica\,sans-serif">The Jyan Waespe Memorial Car Show is more than just a car event\; it&rsquo\;s a chance to give back to the community in memory of Jyan. All proceeds from the event will go directly toward funding scholarships for young adults pursuing ASE.&nbsp\;</span></span></p>\n\n<p><span style="font-size:12px"><span style="font-family:arial\,helvetica\,sans-serif">By attending\, entering your car\, or enjoying the food and activities\, you&rsquo\;re contributing to a cause that will have a lasting impact. Jyan was passionate about cars\,&nbsp\;community and friends\, and this event continues his legacy by supporting the next generation&nbsp\;in pursuing their education and dreams.</span></span></p>\n&nbsp\;\n\n<ul>\n	<li>\n	<p><span style="font-size:12px"><span style="font-family:arial\,helvetica\,sans-serif">Car Show &amp\; Award: Enjoy a spectacular display of cars\, highlighted by one Jyan&rsquo\;s Pick Award\, personally selected by our judges. Whether you&#39\;re a car enthusiast or just here to admire\, there&#39\;s something for everyone.</span></span></p>\n	</li>\n	<li>\n	<p><span style="font-size:12px"><span style="font-family:arial\,helvetica\,sans-serif">Car Club Booths: Connect with local car clubs at their booths\, where you can learn more about their vehicles\, memberships\, and community involvement.</span></span></p>\n	</li>\n	<li>\n	<p><span style="font-size:12px"><span style="font-family:arial\,helvetica\,sans-serif">Sponsor Booths: Learn more and interact with our sponsors that helped make this event possible.</span></span></p>\n	</li>\n	<li>\n	<p><span style="font-size:12px"><span style="font-family:arial\,helvetica\,sans-serif">Food Trucks: Grab a bite from our lineup of food trucks offering a variety of delicious options.</span></span></p>\n	</li>\n</ul>\n
LOCATION:The 2026 Jyan Waespe Memorial Car Show will be held at the Lindner Family Tennis Center in Mason\, Ohio\, a venue worthy of the show's tremendous growth and the legacy it represents. With its expansive layout\, iconic stadium presence\, and surrounding grounds perfect for automotive showcases\, the Tennis Center allows the event to scale up in a way that honors just how much the community has rallied behind Jyan's name.
UID:e.200.25855
SEQUENCE:3
DTSTAMP:20260423T214758Z
URL:https://business.madechamber.org/events/details/the-jyan-waespe-memorial-car-bike-show-25855
END:VEVENT

END:VCALENDAR
