BEGIN:VCALENDAR
VERSION:2.0
PRODID:-//ChamberMaster//Event Calendar 2.0//EN
METHOD:PUBLISH
X-PUBLISHED-TTL:P3D
REFRESH-INTERVAL:P3D
CALSCALE:GREGORIAN
BEGIN:VEVENT
DTSTART:20120418T154500Z
DTEND:20120418T164500Z
X-MICROSOFT-CDO-ALLDAYEVENT:FALSE
SUMMARY:Lunch Before Leads
DESCRIPTION:Please join us each week before the Leads Exchange meeting for lunch at various restaurants in the area.  It's a great opportunity to further develop your business relationships\, network and at the same time support the restaurants that support the Northeast Cincinnati Chamber of Commerce.  The restaurant this week will be:\n\n\n\nOLIVE GARDEN located at 4900 Fields Ertel Road (513.677.5922)\n\n\n\n** Please RSVP to Dr. Joel Saeks at your earliest convenience.
X-ALT-DESC;FMTTYPE=text/html:Please join us each week before the Leads Exchange meeting for lunch at various restaurants in the area.&nbsp\; It&#39\;s a great opportunity to further develop your business relationships\, network and at the same time support the restaurants that support the Northeast Cincinnati Chamber of Commerce.&nbsp\; The restaurant this week will be:<br />\n<br />\n<strong><span style="background-color: #ffff00">OLIVE GARDEN located at 4900 Fields </span><span style="background-color: #ffff00">Ertel</span><span style="background-color: #ffff00"> Road (513.677.5922)</span><br />\n<br />\n<span style="background-color: #ffffff">** Please RSVP to Dr. Joel Saeks at your earliest convenience.</span></strong>
LOCATION:
UID:e.200.3828
SEQUENCE:3
DTSTAMP:20260421T082435Z
URL:https://business.madechamber.org/events/details/lunch-before-leads-04-18-2012-3828
END:VEVENT

END:VCALENDAR
