BEGIN:VCALENDAR
VERSION:2.0
PRODID:-//ChamberMaster//Event Calendar 2.0//EN
METHOD:PUBLISH
X-PUBLISHED-TTL:P3D
REFRESH-INTERVAL:P3D
CALSCALE:GREGORIAN
BEGIN:VEVENT
DTSTART:20260507T223000Z
DTEND:20260508T010000Z
X-MICROSOFT-CDO-ALLDAYEVENT:FALSE
SUMMARY:Hormones and Harmony
DESCRIPTION:An Evening at The Barn in Mariemont: Mocktails-Conversation-Guided Art\n\n\n\nJoin Concierge Medicine of Cincinnati to connect\, learn about hormone health\, get creative\, and enjoy a relaxed night out designed for women.
X-ALT-DESC;FMTTYPE=text/html:An Evening at The Barn in Mariemont: Mocktails-Conversation-Guided Art<br />\n<br />\nJoin Concierge Medicine of Cincinnati to connect\, learn about hormone health\, get creative\, and enjoy a relaxed night out designed for women.&nbsp\;
LOCATION:The Barn 6980 Cambridge Ave Cincinnati\, OH 45227
UID:e.200.25857
SEQUENCE:3
DTSTAMP:20260423T214721Z
URL:https://business.madechamber.org/events/details/hormones-and-harmony-25857
END:VEVENT

END:VCALENDAR
