BEGIN:VCALENDAR
VERSION:2.0
PRODID:-//ChamberMaster//Event Calendar 2.0//EN
METHOD:PUBLISH
X-PUBLISHED-TTL:P3D
REFRESH-INTERVAL:P3D
CALSCALE:GREGORIAN
BEGIN:VEVENT
DTSTART:20260428T220000Z
DTEND:20260429T000000Z
X-MICROSOFT-CDO-ALLDAYEVENT:FALSE
SUMMARY:Calci-Yum\, Everyday meals for Strong Bones
DESCRIPTION:Cooking Class presented by Chef Jaime Carmody in collaboration with Jyothi Jospeh-Hayes MD and Lisa Andrews RD\, LD
X-ALT-DESC;FMTTYPE=text/html:Cooking Class presented by Chef Jaime Carmody in collaboration with Jyothi Jospeh-Hayes MD and Lisa Andrews RD\, LD
LOCATION:Out of Thyme Kitchen and Culinary 11915 Montgomery Road Cincinnati\, OH 45249
UID:e.200.25858
SEQUENCE:3
DTSTAMP:20260422T200542Z
URL:https://business.madechamber.org/events/details/calci-yum-everyday-meals-for-strong-bones-25858
END:VEVENT

END:VCALENDAR
